BEGIN:VCALENDAR
VERSION:2.0
PRODID:-//Center of Excellence for Homeland Security-Emergency Management - ECPv6.15.12.2//NONSGML v1.0//EN
CALSCALE:GREGORIAN
METHOD:PUBLISH
X-WR-CALNAME:Center of Excellence for Homeland Security-Emergency Management
X-ORIGINAL-URL:https://www.coehsem.com
X-WR-CALDESC:Events for Center of Excellence for Homeland Security-Emergency Management
REFRESH-INTERVAL;VALUE=DURATION:PT1H
X-Robots-Tag:noindex
X-PUBLISHED-TTL:PT1H
BEGIN:VTIMEZONE
TZID:UTC
BEGIN:STANDARD
TZOFFSETFROM:+0000
TZOFFSETTO:+0000
TZNAME:UTC
DTSTART:20230101T000000
END:STANDARD
END:VTIMEZONE
BEGIN:VEVENT
DTSTART;TZID=UTC:20240909T080000
DTEND;TZID=UTC:20240912T170000
DTSTAMP:20260419T154002
CREATED:20240619T010959Z
LAST-MODIFIED:20240619T010959Z
UID:8123-1725868800-1726160400@www.coehsem.com
SUMMARY:Washington State Emergency Management Association 2024
DESCRIPTION:The Conference Committee will post additional information at www.wsema.com as it becomes available. \nFor more info\, visit: https://wsema.com/2023-conference-information
URL:https://www.coehsem.com/event/washington-state-emergency-management-association-2024/
LOCATION:Suquamish Clearwater Casino Resort\, 15347 NE Suquamish Way\, Suquamish\, WA\, 98392\, United States
CATEGORIES:Conference,Event
END:VEVENT
END:VCALENDAR